BEGIN:VCALENDAR
VERSION:2.0
METHOD:PUBLISH
PRODID:-//ddaysoftware.com//NONSGML DDay.iCal 1.0//EN
BEGIN:VTIMEZONE
TZID:Central Standard Time
BEGIN:STANDARD
DTSTART;VALUE=DATE:18000101
RRULE:FREQ=YEARLY;BYDAY=SU;BYHOUR=2;BYMINUTE=0;BYMONTH=10;BYMONTHDAY=25,26,
 27,28,29,30,31
TZOFFSETFROM:-0500
TZOFFSETTO:-0600
END:STANDARD
BEGIN:DAYLIGHT
DTSTART;VALUE=DATE:18000101
RRULE:FREQ=YEARLY;BYDAY=SU;BYHOUR=2;BYMINUTE=0;BYMONTH=4;BYMONTHDAY=1,2,3,4
 ,5,6,7
TZOFFSETFROM:-0600
TZOFFSETTO:-0500
END:DAYLIGHT
BEGIN:STANDARD
DTSTART;VALUE=DATE:20070101
RRULE:FREQ=YEARLY;BYDAY=SU;BYHOUR=2;BYMINUTE=0;BYMONTH=11;BYMONTHDAY=1,2,3,
 4,5,6,7
TZOFFSETFROM:-0500
TZOFFSETTO:-0600
END:STANDARD
BEGIN:DAYLIGHT
DTSTART;VALUE=DATE:20070101
RRULE:FREQ=YEARLY;BYDAY=SU;BYHOUR=2;BYMINUTE=0;BYMONTH=3;BYMONTHDAY=8,9,10,
 11,12,13,14
TZOFFSETFROM:-0600
TZOFFSETTO:-0500
END:DAYLIGHT
END:VTIMEZONE
BEGIN:VEVENT
DESCRIPTION:April 26\, 2026 | Kauffman Stadium Scout Day at the K returns o
 n Sunday\, April 12\, 2026. More than just admission to the game\, Scout D
 ay at the K includes early stadium entry\, scout exclusive experiences and
  special in-game extras. GET TICKETS
DTEND;TZID=Central Standard Time:20260412T170000
DTSTAMP:20260424T110709
DTSTART;TZID=Central Standard Time:20260412T110000
LOCATION:1 Royal Way\, Kansas City\, MO 64129
SEQUENCE:0
SUMMARY:Scout Day at the K
UID:da6a5f99-0900-44d5-9467-94cdaa314de3
URL:https://www.hoac-bsa.org/scout-day-at-the-k-2025-07-29
END:VEVENT
END:VCALENDAR
